BEGIN:VCALENDAR
VERSION:2.0
PRODID:-//Squarespace Inc/Squarespace 6//v6//EN
BEGIN:VEVENT
UID:5f03c665f6724b5987ad3d09@squarespace.com
DTSTAMP:20200819T070258Z
DTSTART:20200820T220000Z
DTEND:20200821T010000Z
SUMMARY:Planting Day  - Trees for Survival and Tapora School CANCELED DUE T
 O COVID LOCKDOWN
END:VEVENT
END:VCALENDAR
